BEGIN:VCALENDAR
VERSION:2.0
PRODID:-//3nity.com//3nity CMS//EN
BEGIN:VEVENT
SUMMARY:Sunday Worship
UID:2026-07-18-1198113@www.sjbcministries.org
SEQUENCE:0
STATUS:CONFIRMED
DTSTART:20260628T110000
DTEND:20260628T120000
DTSTAMP:20161222T120000
LOCATION: St John Baptist Church Ministries, 363050 Hwy 62, Boley, OK 74829
DESCRIPTION:
URL:http://www.sjbcministries.org
END:VEVENT
END:VCALENDAR
